BEGIN:VCALENDAR
VERSION:2.0
PRODID:-//La Pierre Vivante - ECPv6.15.20//NONSGML v1.0//EN
CALSCALE:GREGORIAN
METHOD:PUBLISH
X-ORIGINAL-URL:https://lapierrevivante.fr
X-WR-CALDESC:Évènements pour La Pierre Vivante
REFRESH-INTERVAL;VALUE=DURATION:PT1H
X-Robots-Tag:noindex
X-PUBLISHED-TTL:PT1H
BEGIN:VTIMEZONE
TZID:Europe/Helsinki
BEGIN:DAYLIGHT
TZOFFSETFROM:+0200
TZOFFSETTO:+0300
TZNAME:EEST
DTSTART:20220327T010000
END:DAYLIGHT
BEGIN:STANDARD
TZOFFSETFROM:+0300
TZOFFSETTO:+0200
TZNAME:EET
DTSTART:20221030T010000
END:STANDARD
BEGIN:DAYLIGHT
TZOFFSETFROM:+0200
TZOFFSETTO:+0300
TZNAME:EEST
DTSTART:20230326T010000
END:DAYLIGHT
BEGIN:STANDARD
TZOFFSETFROM:+0300
TZOFFSETTO:+0200
TZNAME:EET
DTSTART:20231029T010000
END:STANDARD
BEGIN:DAYLIGHT
TZOFFSETFROM:+0200
TZOFFSETTO:+0300
TZNAME:EEST
DTSTART:20240331T010000
END:DAYLIGHT
BEGIN:STANDARD
TZOFFSETFROM:+0300
TZOFFSETTO:+0200
TZNAME:EET
DTSTART:20241027T010000
END:STANDARD
BEGIN:DAYLIGHT
TZOFFSETFROM:+0200
TZOFFSETTO:+0300
TZNAME:EEST
DTSTART:20250330T010000
END:DAYLIGHT
BEGIN:STANDARD
TZOFFSETFROM:+0300
TZOFFSETTO:+0200
TZNAME:EET
DTSTART:20251026T010000
END:STANDARD
BEGIN:DAYLIGHT
TZOFFSETFROM:+0200
TZOFFSETTO:+0300
TZNAME:EEST
DTSTART:20260329T010000
END:DAYLIGHT
BEGIN:STANDARD
TZOFFSETFROM:+0300
TZOFFSETTO:+0200
TZNAME:EET
DTSTART:20261025T010000
END:STANDARD
BEGIN:DAYLIGHT
TZOFFSETFROM:+0200
TZOFFSETTO:+0300
TZNAME:EEST
DTSTART:20270328T010000
END:DAYLIGHT
BEGIN:STANDARD
TZOFFSETFROM:+0300
TZOFFSETTO:+0200
TZNAME:EET
DTSTART:20271031T010000
END:STANDARD
END:VTIMEZONE
BEGIN:VEVENT
DTSTART;VALUE=DATE:20260405
DTEND;VALUE=DATE:20260406
DTSTAMP:20260422T095102
CREATED:20260326T082116Z
LAST-MODIFIED:20260326T082116Z
UID:4127-1775347200-1775433599@lapierrevivante.fr
SUMMARY:Agape de Pâques - Dimanche 5 avril 2026
DESCRIPTION:Toute l’Église est conviée à un grand repas fraternel pour partager un moment de convivialité et d’amour 🌷 Nous avons hâte de t’y voir ! \n🥖 Repas tiré du sac (sucré ou salé) \n📅 Dimanche 5 avril 2026 après le culte \n📍 4 rue Francis Vovelle à Chartres
URL:https://lapierrevivante.fr/evenement/agape-de-paques-dimanche-5-avril-2026/
LOCATION:4 rue Francis Vovelle 28000 Chartres\, 4 rue Francis Vovelle\, Chartres\, 28000\, France
ATTACH;FMTTYPE=image/png:https://lapierrevivante.fr/wp-content/uploads/2026/03/LPV-Post-RS-Agape-Paques-05042026-Publication-Instagram-45.png
END:VEVENT
BEGIN:VEVENT
DTSTART;TZID=Europe/Helsinki:20260322T100000
DTEND;TZID=Europe/Helsinki:20260322T120000
DTSTAMP:20260422T095102
CREATED:20260309T142648Z
LAST-MODIFIED:20260311T110203Z
UID:4118-1774173600-1774180800@lapierrevivante.fr
SUMMARY:Célébration spéciale : Journée du SEL 2026
DESCRIPTION:Dimanche 22 mars 2026\, nous aurons une célébration spéciale à l’occasion de la Journée du SEL. \nLe SEL est une association protestante de solidarité internationale qui agit pour améliorer les conditions de vie des personnes vivant dans des contextes de pauvreté à travers le monde. \nCette année\, le thème de la journée est  « Un travail. Un avenir. Une espérance. »  Le travail – comme contribution – est un élément central de chaque vie humaine. Peut-il\, quel qu’il soit\, avoir un sens profond ? Avons-nous une responsabilité par rapport à ceux dont le travail ne suffit pas pour vivre ? Quel lien entre travail et pauvreté ? \n🙏 Venez partager ce moment de découverte\, de prière et de solidarité avec nous. Vous êtes chaleureusement invités ! \n📍 Rendez-vous à 10h – 4 rue Francis Vovelle\, 28000 Chartres \n \n 
URL:https://lapierrevivante.fr/evenement/celebration-speciale-journee-du-sel-2026/
LOCATION:4 rue Francis Vovelle 28000 Chartres\, 4 rue Francis Vovelle\, Chartres\, 28000\, France
ATTACH;FMTTYPE=image/jpeg:https://lapierrevivante.fr/wp-content/uploads/2026/03/Journee-du-SEL-2026.jpg
END:VEVENT
BEGIN:VEVENT
DTSTART;TZID=Europe/Helsinki:20260215T100000
DTEND;TZID=Europe/Helsinki:20260215T120000
DTSTAMP:20260422T095102
CREATED:20260203T061419Z
LAST-MODIFIED:20260202T231706Z
UID:4098-1771149600-1771156800@lapierrevivante.fr
SUMMARY:Célébration en présence de Thierry Auvray – Dimanche 15 février 2026
DESCRIPTION:Venez vivre une célébration spéciale en présence de Thierry Auvray\, pasteur de l’Église Évangélique AAJC \n🕙 Dimanche 15 février 2026 | 10h00📍 Église Évangélique La Pierre Vivante4 Rue Francis Vovelle\, 28000 Chartres \nVous êtes tous les bienvenus !
URL:https://lapierrevivante.fr/evenement/celebration-en-presence-de-thierry-auvray-dimanche-15-fevrier-2026/
ATTACH;FMTTYPE=image/png:https://lapierrevivante.fr/wp-content/uploads/2026/02/LPV-Invite-Thierry-Auvray-15022026-IG-02022026.png
END:VEVENT
BEGIN:VEVENT
DTSTART;TZID=Europe/Helsinki:20260125T100000
DTEND;TZID=Europe/Helsinki:20260125T120000
DTSTAMP:20260422T095102
CREATED:20251222T112751Z
LAST-MODIFIED:20251222T112751Z
UID:4062-1769335200-1769342400@lapierrevivante.fr
SUMMARY:Célébration en présence de David Nolent – Dimanche 25 janvier 2026
DESCRIPTION:Nous avons le plaisir d’accueillir David Nolent\, directeur du TopChrétien et parrain de notre projet d’implantation\, pour un culte spécial sur le thème : « 2026\, lève-toi et marche ! » \n🕙 Dimanche 25 janvier 2026 | 10h00📍 Église Évangélique La Pierre Vivante4 Rue Francis Vovelle\, 28000 Chartres \nVenez vivre un moment de louange\, de prière et d’enseignement sur la Parole de Dieu\, et partagez un temps convivial avec notre invité.Vous êtes tous les bienvenus !
URL:https://lapierrevivante.fr/evenement/celebration-en-presence-de-david-nolent-dimanche-25-janvier-2026/
LOCATION:4 rue Francis Vovelle 28000 Chartres\, 4 rue Francis Vovelle\, Chartres\, 28000\, France
ATTACH;FMTTYPE=image/png:https://lapierrevivante.fr/wp-content/uploads/2025/12/LPV-Invite-David-Nolent-25012026.png
END:VEVENT
BEGIN:VEVENT
DTSTART;TZID=Europe/Helsinki:20260113T193000
DTEND;TZID=Europe/Helsinki:20260117T190000
DTSTAMP:20260422T095102
CREATED:20251214T164058Z
LAST-MODIFIED:20251222T082934Z
UID:4044-1768332600-1768676400@lapierrevivante.fr
SUMMARY:Semaine de prière 2026 du CNEF : prions ensemble !
DESCRIPTION:Semaine de prière 2026 – CNEF 28\n« Prions ensemble ! » \nLes Églises membres du CNEF 28 vous invitent à participer à la semaine de prière autour du thème :La fidélité de Dieu envers son peuple – S’arrêter pour mieux repartir (Psaume 78) \n📅 Programme des rencontres\nMardi 13 janvier – 19h30ADD Dreux26 rue de Lamballe – Dreux \nMercredi 14 janvier – 19hLa Bonne Nouvelle1 rue de Rechèvres – Chartres \nJeudi 15 janvier – 19hLa Pierre Vivante4 rue Francis Vovelle – Chartres \nVendredi 16 janvier – 19h15Réparateurs de Brèches1 rue de la Mairie – Champhol \n✨ Temps fort inter-Églises\nSamedi 17 janvier – 17hRencontre de toutes les ÉglisesMission Évangélique ADD89 rue de la République – Mainvilliers \nUn temps pour nous arrêter\, nous souvenir de la fidélité de Dieu et repartir ensemble dans la prière et l’unité.Ouvert à tous et toutes !
URL:https://lapierrevivante.fr/evenement/semaine-de-priere-2026-du-cnef-prions-ensemble/
ATTACH;FMTTYPE=image/png:https://lapierrevivante.fr/wp-content/uploads/2025/12/Capture-decran-2025-12-14-a-17.39.17.png
END:VEVENT
BEGIN:VEVENT
DTSTART;TZID=Europe/Helsinki:20260108T190000
DTEND;TZID=Europe/Helsinki:20260108T200000
DTSTAMP:20260422T095102
CREATED:20251222T104757Z
LAST-MODIFIED:20251222T111336Z
UID:4054-1767898800-1767902400@lapierrevivante.fr
SUMMARY:Réunion de prière hebdomadaire ⛪
DESCRIPTION:À partir du 8 janvier 2026\, les réunions de prière auront lieu chaque jeudi en présentiel.🕖 19h à 20h📍 4 rue Francis Vovelle\, 28000 Chartres \nUn temps pour prier\, partager et se ressourcer. Rejoins-nous !
URL:https://lapierrevivante.fr/evenement/reunion-de-priere-hebdomadaire-%e2%9b%aa/
LOCATION:4 rue Francis Vovelle 28000 Chartres\, 4 rue Francis Vovelle\, Chartres\, 28000\, France
ATTACH;FMTTYPE=image/png:https://lapierrevivante.fr/wp-content/uploads/2025/12/LPV-Annonce-reunion-de-priere-du-jeudi-08012026.png
END:VEVENT
BEGIN:VEVENT
DTSTART;TZID=Europe/Helsinki:20250921T093000
DTEND;TZID=Europe/Helsinki:20250921T123000
DTSTAMP:20260422T095102
CREATED:20250905T133414Z
LAST-MODIFIED:20251115T194303Z
UID:3985-1758447000-1758457800@lapierrevivante.fr
SUMMARY:💌 Dimanche 21 septembre 2025 : rejoignez-nous pour le 1er culte à Chartres
DESCRIPTION:🎉 Grande nouvelle !L’église évangélique La Pierre Vivante vous invite à son 1er culte dans notre nouveau local 🙌📍 4 rue Francis Vovelle\, 28000 Chartres🕙 Dimanche 21 septembre 2025 | 10h-12h \n➡️ La célébration sera suivie d’un moment fraternel autour d’une collation 🤝☕🍪 \nVenez célébrer avec nous ! ✨
URL:https://lapierrevivante.fr/evenement/%f0%9f%92%8c-dimanche-21-septembre-2025-rejoignez-nous-pour-le-1er-culte-a-chartres/
LOCATION:4 rue Francis Vovelle 28000 Chartres\, 4 rue Francis Vovelle\, Chartres\, 28000\, France
ATTACH;FMTTYPE=image/png:https://lapierrevivante.fr/wp-content/uploads/2025/09/Flyer-LPV-RECTO.png
END:VEVENT
BEGIN:VEVENT
DTSTART;TZID=Europe/Helsinki:20250517T130000
DTEND;TZID=Europe/Helsinki:20250517T160000
DTSTAMP:20260422T095102
CREATED:20250429T164154Z
LAST-MODIFIED:20251115T194245Z
UID:3857-1747486800-1747497600@lapierrevivante.fr
SUMMARY:Sortie de printemps des enfants 🌱
DESCRIPTION:Nous vous convions à une sortie de vos enfants le samedi 17 mai 2025 entre 13h et 16h au parc le Square de la Libération rue de Touraine à Lucé (28110)\, côté jeux. \nNous en profiterons pour célébrer avec joie et amusement l’anniversaire de nos princesses Shany et Victoria. Vous pourrez vous garer sur le parking d’Intermarché et rejoindre le parc à pied. L’entrée est à droite du salon de coiffure CLEAR COIFFURE. \nPour les enfants qui avaient gardé le tee-shirt jaune « smille » merci de l’apporter. \nÀ cette occasion et par mesure de sécurité nous vous remercions de nous apporter une attestation d’assurance responsabilité civile pour chacun de vos enfants. \nPour toutes informations\, merci de contacter la sœur Gilene. \nSoyez bénis. \nLes soeurs Gilene et Jeanne-Marie
URL:https://lapierrevivante.fr/evenement/sortie-de-printemps-des-enfants-%f0%9f%8c%b1/
LOCATION:Square de la Libération\, rue de Touraine\, 28110 Lucé\, Square de la Libération\, rue de Touraine\, Lucé\, 28110\, France
ATTACH;FMTTYPE=image/jpeg:https://lapierrevivante.fr/wp-content/uploads/2025/04/3a7b409edc66e7d1b40534878c85eabf_square-de-.jpg
END:VEVENT
BEGIN:VEVENT
DTSTART;TZID=Europe/Helsinki:20250207T093000
DTEND;TZID=Europe/Helsinki:20250207T103000
DTSTAMP:20260422T095102
CREATED:20250206T110937Z
LAST-MODIFIED:20250206T110937Z
UID:3836-1738920600-1738924200@lapierrevivante.fr
SUMMARY:CÉRÉMONIE EN HOMMAGE À NOTRE SŒUR LINE ROSSIGNOL 🕊️
DESCRIPTION:Nous vous informons que la cérémonie en hommage à notre sœur Line Rossignol débutera ce vendredi 7 février à 9h30 dans la salle de :\nL’Église Évangélique des Assemblées de Dieu\n89 rue de la République\n28300 Mainvilliers\n\n\n\nÀ 10h30\, un cortège se rendra au cimetière l’Orée du Bois\, rue de la Serpe à Châteauneuf-en-Thymerais où notre sœur y sera inhumée à 11h.\n\n\n\nToute l’assemblée est invitée à honorer la mémoire de notre bien-aimée\, selon la disponibilité de chacun.\n\n\nSoyez bénis et merci pour la famille.\n\n\n\nPasteur Antonio Quivonda\nÉglise Évangélique La Pierre Vivante
URL:https://lapierrevivante.fr/evenement/ceremonie-en-hommage-a-notre-soeur-line-rossignol-%f0%9f%95%8a%ef%b8%8f/
LOCATION:89 rue de la République\, 28300 Mainvilliers\, 89 rue de la République\, Mainvilliers\, 28300\, France
ATTACH;FMTTYPE=image/png:https://lapierrevivante.fr/wp-content/uploads/2025/02/Faire-part-de-deces-Line-Rossignol-Site-internet-LPV-2.png
END:VEVENT
BEGIN:VEVENT
DTSTART;TZID=Europe/Helsinki:20241103T100000
DTEND;TZID=Europe/Helsinki:20241103T120000
DTSTAMP:20260422T095102
CREATED:20241018T141116Z
LAST-MODIFIED:20241023T204157Z
UID:3792-1730628000-1730635200@lapierrevivante.fr
SUMMARY:Culte spécial - Questions Réponses
DESCRIPTION:Le dimanche 3 novembre 2024 nous aurons un culte spécial questions réponses. Vous pouvez dès à présent réfléchir à vos questions en vous basant sur ces trois axes de réflexion : \n1/ Quelle devrait être selon toi la principale qualité de l’église La Pierre Vivante ? Dans quel type d’église souhaiterais-tu vivre ? \n2/ As-tu des attentes particulières vis-à-vis de La Pierre Vivante ? Lesquelles ? \n3/ Désires-tu servir le Seigneur dans un domaine précis au sein de La Pierre Vivante ? Lequel ? \nPour l’occasion\, nous serons dans notre future salle de culte : 4 rue Francis Vovelle  28000  Chartres \nMerci d’avance pour votre présence lors de ce culte spécial. \nSoyez bénis !
URL:https://lapierrevivante.fr/evenement/culte-special-questions-reponses/
LOCATION:4 rue Francis Vovelle   28000  Chartres\, 4 rue Francis Vovelle\, Chartres\, 28000\, France
ATTACH;FMTTYPE=image/jpeg:https://lapierrevivante.fr/wp-content/uploads/2024/10/istockphoto-1386740242-612x612-1.jpg
END:VEVENT
BEGIN:VEVENT
DTSTART;TZID=Europe/Helsinki:20241020T093000
DTEND;TZID=Europe/Helsinki:20241020T133000
DTSTAMP:20260422T095102
CREATED:20241008T113154Z
LAST-MODIFIED:20250429T164620Z
UID:3784-1729416600-1729431000@lapierrevivante.fr
SUMMARY:Bénédiction du mariage de Benjamin et Karine
DESCRIPTION:Le dimanche 20 octobre 2024\, nous aurons le plaisir de bénir et de présenter devant Dieu l’union de Benjamin et Karine 💒 Joignez-vous à nous ! \n  \n« Et maintenant\, ces trois choses demeurent : la foi\, l’espérance et l’amour. Mais la plus grande des trois est l’amour. » 1 Corinthiens 13:13
URL:https://lapierrevivante.fr/evenement/benediction-du-mariage-de-benjamin-et-karine/
LOCATION:4 rue Francis Vovelle   28000  Chartres\, 4 rue Francis Vovelle\, Chartres\, 28000\, France
ATTACH;FMTTYPE=image/png:https://lapierrevivante.fr/wp-content/uploads/2024/10/Site-internet-LPV-Photo-Article-Benjamin-et-Karine-.png
END:VEVENT
BEGIN:VEVENT
DTSTART;TZID=Europe/Helsinki:20240505T123000
DTEND;TZID=Europe/Helsinki:20240505T153000
DTSTAMP:20260422T095102
CREATED:20240409T081820Z
LAST-MODIFIED:20240915T114507Z
UID:3659-1714912200-1714923000@lapierrevivante.fr
SUMMARY:Visite du chantier de notre futur lieu de culte
DESCRIPTION:Le dimanche 5 mai 2024 nous vous invitons à visiter notre futur lieu de culte à Chartres (28) à partir de 12h30. Nous serons à votre disposition pour répondre à toutes vos questions et une collation de bienvenue sera servie sur place. Cette invitation est ouverte à tous\, venez nombreux ! \n Pour nous soutenir et suivre les avancées du chantier\, rendez-vous sur https://bit.ly/HelloAssoLPV
URL:https://lapierrevivante.fr/evenement/visite-du-chantier-de-notre-futur-lieu-de-culte/
LOCATION:4 rue Francis Vovelle 28000 Chartres\, 4 rue Francis Vovelle\, Chartres\, 28000\, France
ATTACH;FMTTYPE=image/jpeg:https://lapierrevivante.fr/wp-content/uploads/2024/04/Futur-lieu-de-culte-LPV.jpg
END:VEVENT
BEGIN:VEVENT
DTSTART;TZID=Europe/Helsinki:20231203T100000
DTEND;TZID=Europe/Helsinki:20231203T120000
DTSTAMP:20260422T095102
CREATED:20231111T190453Z
LAST-MODIFIED:20240409T082547Z
UID:3472-1701597600-1701604800@lapierrevivante.fr
SUMMARY:Invitation du pasteur William Joutet
DESCRIPTION:Le dimanche 3 décembre 2023\, nous aurons le plaisir de recevoir le pasteur William Joutet de l’église Vie et Foi d’Amfreville-La-Mi-Voie en Normandie. : https://www.eglise-vie-foi.com/amfreville/
URL:https://lapierrevivante.fr/evenement/visite-du-pasteur-william-joutet/
LOCATION:4 rue Francis Vovelle   28000  Chartres\, 4 rue Francis Vovelle\, Chartres\, 28000\, France
ATTACH;FMTTYPE=image/png:https://lapierrevivante.fr/wp-content/uploads/2023/11/William-Joutet.png
END:VEVENT
BEGIN:VEVENT
DTSTART;TZID=Europe/Helsinki:20231112T080000
DTEND;TZID=Europe/Helsinki:20231119T170000
DTSTAMP:20260422T095102
CREATED:20230823T123627Z
LAST-MODIFIED:20231111T232056Z
UID:91-1699776000-1700413200@lapierrevivante.fr
SUMMARY:Afrique unis contre la violence
DESCRIPTION:UNISSONS-NOUS FACE À LA VIOLENCE EN AFRIQUE SUBSAHARIENNE\nDans toute l’Afrique Subsaharienne\, nos frères et sœurs sont soumis à une pression sans précédent. Les extrémistes s’en prennent aux chrétiens et veulent détruire l’Eglise. Meurtres\, tortures et enlèvements sont devenus une menace quotidienne. \nFace à la gravité de la situation\, nous ne pouvons rester inactifs. \nDu 12 au 19 novembre\, recevez chaque jour un sujet de prière directement dans votre boite e-mail\, ainsi que les informations concernant la campagne. \n \nToutes les information sur https://afrique-unis-contre-la-violence.portesouvertes.fr/
URL:https://lapierrevivante.fr/evenement/titre-de-levenement-un-peu-long/
ATTACH;FMTTYPE=image/png:https://lapierrevivante.fr/wp-content/uploads/2023/08/dep-2023-web-532x519-1.png
END:VEVENT
END:VCALENDAR